BEGIN:VCALENDAR
VERSION:2.0
PRODID:-//PaperFIRST - ECPv4.6.12//NONSGML v1.0//EN
CALSCALE:GREGORIAN
METHOD:PUBLISH
X-WR-CALNAME:PaperFIRST
X-ORIGINAL-URL:https://www.paperfirst.info
X-WR-CALDESC:Events for PaperFIRST
BEGIN:VEVENT
DTSTART;VALUE=DATE:20240319
DTEND;VALUE=DATE:20240322
DTSTAMP:20260423T104913
CREATED:20230925T121034Z
LAST-MODIFIED:20230925T121034Z
UID:19771-1710806400-1711065599@www.paperfirst.info
SUMMARY:IMPS Conference
DESCRIPTION:Munich\, Germany\, \n\n\n\nIMPS Conference\n\n\n\n
URL:https://www.paperfirst.info/event/imps-conference-6/
CATEGORIES:Conference
END:VEVENT
END:VCALENDAR