BEGIN:VCALENDAR
VERSION:2.0
PRODID:-//PaperFIRST - ECPv4.6.12//NONSGML v1.0//EN
CALSCALE:GREGORIAN
METHOD:PUBLISH
X-WR-CALNAME:PaperFIRST
X-ORIGINAL-URL:https://www.paperfirst.info
X-WR-CALDESC:Events for PaperFIRST
BEGIN:VEVENT
DTSTART;VALUE=DATE:20240304
DTEND;VALUE=DATE:20240307
DTSTAMP:20260422T104342
CREATED:20230925T121214Z
LAST-MODIFIED:20230925T121214Z
UID:19773-1709510400-1709769599@www.paperfirst.info
SUMMARY:Fastmarkets RISI European Conference
DESCRIPTION:Istanbul\, Turkey \n\n\n\nFastmarkets RISI European Conference\n\n\n\n  \n
URL:https://www.paperfirst.info/event/fastmarkets-risi-european-conference-5/
CATEGORIES:Conference
END:VEVENT
END:VCALENDAR