BEGIN:VCALENDAR
VERSION:2.0
PRODID:-//PaperFIRST - ECPv4.6.12//NONSGML v1.0//EN
CALSCALE:GREGORIAN
METHOD:PUBLISH
X-WR-CALNAME:PaperFIRST
X-ORIGINAL-URL:https://www.paperfirst.info
X-WR-CALDESC:Events for PaperFIRST
BEGIN:VEVENT
DTSTART;VALUE=DATE:20241120
DTEND;VALUE=DATE:20241123
DTSTAMP:20260420T224022
CREATED:20230925T114932Z
LAST-MODIFIED:20240527T073154Z
UID:19745-1732060800-1732319999@www.paperfirst.info
SUMMARY:Expocorma
DESCRIPTION:Concepción\, Chile \nExpocorma \n
URL:https://www.paperfirst.info/event/expocorma-2/
CATEGORIES:Exhibition
END:VEVENT
BEGIN:VEVENT
DTSTART;VALUE=DATE:20241121
DTEND;VALUE=DATE:20241123
DTSTAMP:20260420T224022
CREATED:20240111T095246Z
LAST-MODIFIED:20240111T095600Z
UID:20843-1732147200-1732319999@www.paperfirst.info
SUMMARY:ATIP Congress & Expo
DESCRIPTION:Paris\, France \nATIP Congress \n
URL:https://www.paperfirst.info/event/atip-congress-expo-2/
CATEGORIES:Congress & Exhibition
END:VEVENT
END:VCALENDAR