BEGIN:VCALENDAR
VERSION:2.0
PRODID:-//PaperFIRST - ECPv4.6.12//NONSGML v1.0//EN
CALSCALE:GREGORIAN
METHOD:PUBLISH
X-WR-CALNAME:PaperFIRST
X-ORIGINAL-URL:https://www.paperfirst.info
X-WR-CALDESC:Events for PaperFIRST
BEGIN:VEVENT
DTSTART;VALUE=DATE:20241118
DTEND;VALUE=DATE:20241121
DTSTAMP:20260420T163937
CREATED:20231114T110330Z
LAST-MODIFIED:20231114T110330Z
UID:20265-1731888000-1732147199@www.paperfirst.info
SUMMARY:Paper ME - Saudi Arabia
DESCRIPTION:Jeddah\, Saudi Arabia \nPaper ME \n
URL:https://www.paperfirst.info/event/paper-me-saudi-arabia/
CATEGORIES:Exhibition
END:VEVENT
END:VCALENDAR