BEGIN:VCALENDAR
VERSION:2.0
PRODID:-//PaperFIRST - ECPv4.6.12//NONSGML v1.0//EN
CALSCALE:GREGORIAN
METHOD:PUBLISH
X-WR-CALNAME:PaperFIRST
X-ORIGINAL-URL:https://www.paperfirst.info
X-WR-CALDESC:Events for PaperFIRST
BEGIN:VEVENT
DTSTART;VALUE=DATE:20241112
DTEND;VALUE=DATE:20241115
DTSTAMP:20260420T060635
CREATED:20240111T111640Z
LAST-MODIFIED:20240111T111640Z
UID:20868-1731369600-1731628799@www.paperfirst.info
SUMMARY:PulpFor Expo
DESCRIPTION:St Petersburg\, Russia \nPulpFor Expo \n
URL:https://www.paperfirst.info/event/pulpfor-expo-2/
CATEGORIES:Exhibition
END:VEVENT
BEGIN:VEVENT
DTSTART;VALUE=DATE:20241112
DTEND;VALUE=DATE:20241116
DTSTAMP:20260420T060635
CREATED:20240527T073429Z
LAST-MODIFIED:20240527T073429Z
UID:22507-1731369600-1731715199@www.paperfirst.info
SUMMARY:Albany Tissue Panel Mexico
DESCRIPTION:Puerto Vallarta\, Mexico \n
URL:https://www.paperfirst.info/event/albany-tissue-panel-mexico/
CATEGORIES:Seminar
END:VEVENT
BEGIN:VEVENT
DTSTART;VALUE=DATE:20241113
DTEND;VALUE=DATE:20241116
DTSTAMP:20260420T060635
CREATED:20240420T105035Z
LAST-MODIFIED:20240420T105035Z
UID:22077-1731456000-1731715199@www.paperfirst.info
SUMMARY:ANTEX Asia
DESCRIPTION:Bangkok\, Thailand \nANTEX Asia \nAsia Nonwovens Technology Expo \n
URL:https://www.paperfirst.info/event/antex-asia/
CATEGORIES:Exhibition
END:VEVENT
END:VCALENDAR