BEGIN:VCALENDAR
VERSION:2.0
PRODID:-//PaperFIRST - ECPv4.6.12//NONSGML v1.0//EN
CALSCALE:GREGORIAN
METHOD:PUBLISH
X-WR-CALNAME:PaperFIRST
X-ORIGINAL-URL:https://www.paperfirst.info
X-WR-CALDESC:Events for PaperFIRST
BEGIN:VEVENT
DTSTART;VALUE=DATE:20210420
DTEND;VALUE=DATE:20210429
DTSTAMP:20260425T110019
CREATED:20190527T104704Z
LAST-MODIFIED:20210316T183733Z
UID:2433-1618876800-1619654399@www.paperfirst.info
SUMMARY:Drupa Virtual
DESCRIPTION:Dusseldorf\, DE \nwww.drupa.com \n
URL:https://www.paperfirst.info/event/drupa-2/
CATEGORIES:Conference & Exhibition
END:VEVENT
BEGIN:VEVENT
DTSTART;VALUE=DATE:20210425
DTEND;VALUE=DATE:20210429
DTSTAMP:20260425T110019
CREATED:20190826T141447Z
LAST-MODIFIED:20210316T184130Z
UID:3156-1619308800-1619654399@www.paperfirst.info
SUMMARY:TappiCon 2021
DESCRIPTION:Online event \nwww.papercon.org \nJointly with TissueCon and NETInc \n
URL:https://www.paperfirst.info/event/papercon-2021/
CATEGORIES:Conference & Exhibition
END:VEVENT
END:VCALENDAR