BEGIN:VCALENDAR
VERSION:2.0
PRODID:-//PaperFIRST - ECPv4.6.12//NONSGML v1.0//EN
CALSCALE:GREGORIAN
METHOD:PUBLISH
X-WR-CALNAME:PaperFIRST
X-ORIGINAL-URL:https://www.paperfirst.info
X-WR-CALDESC:Events for PaperFIRST
BEGIN:VEVENT
DTSTART;VALUE=DATE:20190516
DTEND;VALUE=DATE:20190518
DTSTAMP:20260424T072036
CREATED:20190527T110313Z
LAST-MODIFIED:20190527T110313Z
UID:2456-1557964800-1558137599@www.paperfirst.info
SUMMARY:Jornadas Celulósico Papeleras 2019 - AFCP Congress
DESCRIPTION:Buenos Aires\, AR \n
URL:https://www.paperfirst.info/event/jornadas-celulosico-papeleras-2019-afcp-congress/
END:VEVENT
END:VCALENDAR