BEGIN:VCALENDAR
VERSION:2.0
PRODID:-//PaperFIRST - ECPv4.6.12//NONSGML v1.0//EN
CALSCALE:GREGORIAN
METHOD:PUBLISH
X-WR-CALNAME:PaperFIRST
X-ORIGINAL-URL:https://www.paperfirst.info
X-WR-CALDESC:Events for PaperFIRST
BEGIN:VEVENT
DTSTART;VALUE=DATE:20210922
DTEND;VALUE=DATE:20210924
DTSTAMP:20260422T095915
CREATED:20210818T081614Z
LAST-MODIFIED:20210818T081614Z
UID:11107-1632268800-1632441599@www.paperfirst.info
SUMMARY:Tissue World Magazine virtual conference
DESCRIPTION:Online event \n  \n
URL:https://www.paperfirst.info/event/tissue-world-magazine-virtual-conference/
CATEGORIES:Conference,Virtual event
END:VEVENT
END:VCALENDAR