BEGIN:VCALENDAR
VERSION:2.0
PRODID:-//PaperFIRST - ECPv4.6.12//NONSGML v1.0//EN
CALSCALE:GREGORIAN
METHOD:PUBLISH
X-WR-CALNAME:PaperFIRST
X-ORIGINAL-URL:https://www.paperfirst.info
X-WR-CALDESC:Events for PaperFIRST
BEGIN:VEVENT
DTSTART;VALUE=DATE:20211003
DTEND;VALUE=DATE:20211007
DTSTAMP:20260422T095014
CREATED:20210421T075519Z
LAST-MODIFIED:20210421T075519Z
UID:9850-1633219200-1633564799@www.paperfirst.info
SUMMARY:TappiCon Live
DESCRIPTION:Atlanta (USA) \nhttps://papercon.org/ \n
URL:https://www.paperfirst.info/event/tappicon-live/
CATEGORIES:Conference & Exhibition
END:VEVENT
END:VCALENDAR