BEGIN:VCALENDAR
VERSION:2.0
PRODID:-//PaperFIRST - ECPv4.6.12//NONSGML v1.0//EN
CALSCALE:GREGORIAN
METHOD:PUBLISH
X-WR-CALNAME:PaperFIRST
X-ORIGINAL-URL:https://www.paperfirst.info
X-WR-CALDESC:Events for PaperFIRST
BEGIN:VEVENT
DTSTART;VALUE=DATE:20211019
DTEND;VALUE=DATE:20211022
DTSTAMP:20260422T095449
CREATED:20201123T114527Z
LAST-MODIFIED:20201123T114743Z
UID:8169-1634601600-1634860799@www.paperfirst.info
SUMMARY:SPAPER 2021 - New dates
DESCRIPTION:Zaragoza\, Spain \nhttps://www.feriazaragoza.es/spaper-2021 \n
URL:https://www.paperfirst.info/event/spaper-2021-new-dates/
CATEGORIES:Conference & Exhibition
END:VEVENT
END:VCALENDAR