BEGIN:VCALENDAR
VERSION:2.0
PRODID:-//PaperFIRST - ECPv4.6.12//NONSGML v1.0//EN
CALSCALE:GREGORIAN
METHOD:PUBLISH
X-WR-CALNAME:PaperFIRST
X-ORIGINAL-URL:https://www.paperfirst.info
X-WR-CALDESC:Events for PaperFIRST
BEGIN:VEVENT
DTSTART;VALUE=DATE:20221123
DTEND;VALUE=DATE:20221125
DTSTAMP:20260421T090941
CREATED:20220816T095711Z
LAST-MODIFIED:20220816T095711Z
UID:15382-1669161600-1669334399@www.paperfirst.info
SUMMARY:PTS Corrugated Board Symposium 2022
DESCRIPTION:PTS Corrugated Board Symposium 2022 \n
URL:https://www.paperfirst.info/event/pts-corrugated-board-symposium-2022/
CATEGORIES:Conference,Virtual event
END:VEVENT
END:VCALENDAR