BEGIN:VCALENDAR
VERSION:2.0
PRODID:-//PaperFIRST - ECPv4.6.12//NONSGML v1.0//EN
CALSCALE:GREGORIAN
METHOD:PUBLISH
X-WR-CALNAME:PaperFIRST
X-ORIGINAL-URL:https://www.paperfirst.info
X-WR-CALDESC:Events for PaperFIRST
BEGIN:VEVENT
DTSTART;TZID=Europe/Paris:20211023T080000
DTEND;TZID=Europe/Paris:20211023T170000
DTSTAMP:20260422T081757
CREATED:20211023T190522Z
LAST-MODIFIED:20211023T190522Z
UID:11870-1634976000-1635008400@www.paperfirst.info
SUMMARY:Paper & Beyond - CEPI Conference
DESCRIPTION:Online event \nwww.paperandbeyond.eu \n
URL:https://www.paperfirst.info/event/paper-beyond-cepi-conference-2/
CATEGORIES:Conference,Virtual event
END:VEVENT
END:VCALENDAR