BEGIN:VCALENDAR
VERSION:2.0
PRODID:-//PaperFIRST - ECPv4.6.12//NONSGML v1.0//EN
CALSCALE:GREGORIAN
METHOD:PUBLISH
X-WR-CALNAME:PaperFIRST
X-ORIGINAL-URL:https://www.paperfirst.info
X-WR-CALDESC:Events for PaperFIRST
BEGIN:VEVENT
DTSTART;VALUE=DATE:20211123
DTEND;VALUE=DATE:20211125
DTSTAMP:20260422T081706
CREATED:20210421T073314Z
LAST-MODIFIED:20210421T073314Z
UID:9842-1637625600-1637798399@www.paperfirst.info
SUMMARY:ATIP Congress
DESCRIPTION:Paris (France) \nwww.atip.asso.fr \n
URL:https://www.paperfirst.info/event/atip-congress/
CATEGORIES:Congress & Exhibition
END:VEVENT
END:VCALENDAR