BEGIN:VCALENDAR
VERSION:2.0
PRODID:-//PaperFIRST - ECPv4.6.12//NONSGML v1.0//EN
CALSCALE:GREGORIAN
METHOD:PUBLISH
X-WR-CALNAME:PaperFIRST
X-ORIGINAL-URL:https://www.paperfirst.info
X-WR-CALDESC:Events for PaperFIRST
BEGIN:VEVENT
DTSTART;VALUE=DATE:20211007
DTEND;VALUE=DATE:20211009
DTSTAMP:20260422T120442
CREATED:20210617T115131Z
LAST-MODIFIED:20210617T115131Z
UID:10514-1633564800-1633737599@www.paperfirst.info
SUMMARY:AmericaPack Summit
DESCRIPTION:Las Vegas\, USA \nAmericaPack Summit \n  \n
URL:https://www.paperfirst.info/event/americapack-summit/
CATEGORIES:Conference
END:VEVENT
END:VCALENDAR