BEGIN:VCALENDAR
VERSION:2.0
PRODID:-//PaperFIRST - ECPv4.6.12//NONSGML v1.0//EN
CALSCALE:GREGORIAN
METHOD:PUBLISH
X-WR-CALNAME:PaperFIRST
X-ORIGINAL-URL:https://www.paperfirst.info
X-WR-CALDESC:Events for PaperFIRST
BEGIN:VEVENT
DTSTART;VALUE=DATE:20211019
DTEND;VALUE=DATE:20211022
DTSTAMP:20260422T114334
CREATED:20200305T111156Z
LAST-MODIFIED:20210316T185406Z
UID:5370-1634601600-1634860799@www.paperfirst.info
SUMMARY:ACCCSA International Conference and Exhibition - New dates
DESCRIPTION:San Jose\, Costa Rica \nwww.acccsa.org \n
URL:https://www.paperfirst.info/event/acccsa-international-conference-and-exhibition/
LOCATION:Costa Rica
GEO:9.748917;-83.753428
CATEGORIES:Congress & Exhibition
END:VEVENT
END:VCALENDAR